Workbook

Sheet Main Page
A1: FY 22/23
C2: Department | D2: 100 | E2: 200 | F2: 300 | G2: 400 | H2: 500 | I2: 600
A3: 1 | B3: Acc. Code | C3: Revenues | D3: Street Lighting | E3: Water | F3: Sanitation | G3: Fire | H3: Contract Fire | I3: Ambulance | J3: Total
A4: 2
A5: 3 | B5: 40100 | C5: Service Charges | E5: 577727 | F5: 545000 | J5: =SUM(D5:I5) -> 1122727
A6: 4 | B6: 40150 | C6: User Fees | J6: =SUM(D6:I6) -> 0
A7: 5 | B7: 40200 | C7: Connections | J7: =SUM(D7:I7) -> 0
A8: 6 | B8: 40350 | C8: Grants | F8: 0 | G8: 113000 | I8: 0 | J8: =SUM(D8:I8) -> 113000 | K8: KBK 6-23-2022 received
A9: 7 | B9: 40400 | C9: Reconnect Fees | J9: =SUM(D9:I9) -> 0
A10: 8 | B10: 40500 | C10: Inspections | J10: =SUM(D10:I10) -> 0
A11: 9 | B11: 40600 | C11: Annexation Fees | J11: =SUM(D11:I11) -> 0
A12: 10 | B12: 40610 | C12: Water Fees & Penalties | J12: =SUM(D12:I12) -> 0
A13: 11 | B13: 40630 | C13: Call Out/Closing Fees | J13: =SUM(D13:I13) -> 0
A14: 12 | B14: 40700 | C14: Property Taxes | E14: 66000 | F14: 105000 | G14: 133000 | J14: =SUM(D14:I14) -> 304000
A15: 13 | B15: 40750 | C15: Special Assessments | G15: 131245 | J15: =SUM(D15:I15) -> 131245
A16: 14 | B16: 40800 | C16: Other Income, Strike Teams | G16: 69000 | I16: 0 | J16: =SUM(D16:I16) -> 69000
A17: 15 | B17: 43800 | C17: Street Light Rev., Other | D17: 32000 | J17: =SUM(D17:I17) -> 32000
A18: 16 | B18: 45100 | C18: Solid Waste Franchise Fee | F18: 5000 | J18: =SUM(D18:I18) -> 5000
A19: 17 | B19: 46000 | C19: Ambulance Revenue | I19: 300000 | J19: =SUM(D19:I19) -> 300000
A20: 18 | B20: 47000 | C20: Contract Revenue: Lassen, Strike | G20: 900000 | H20: 300000 | I20: 100000 | J20: =SUM(D20:I20) -> 1300000
A21: 19 | B21: 70100 | C21: Interest Income | F21: 1525 | H21: 0 | J21: =SUM(D21:I21) -> 1525
A22: 20 | B22: 70150 | C22: Interest L.A.I.F. | J22: =SUM(D22:I22) -> 0
A23: 21
A24: 22 | C24: Total Revenues | D24: =SUM(D5:D22) -> 32000 | E24: =SUM(E5:E22) -> 643727 | F24: =SUM(F5:F22) -> 656525 | G24: =SUM(G5:G22) -> 1346245 | H24: =SUM(H5:H22) -> 300000 | I24: =SUM(I5:I22) -> 400000 | J24: =SUM(J5:J22) -> 3378497 | L24: =SUM(D24:I24) -> 3378497
A25: 23
A26: 24 | C26: Expenses | D26: Street Lighting | E26: Water | F26: Sanitation | G26: Fire | H26: Contract Fire | I26: Ambulance | J26: Total
A27: 25
A28: 26 | B28: 50100 | C28: Wages - Manager | E28: =Wages!J37 -> 0 | F28: =Wages!K37 -> 0 | G28: =Wages!L37 -> 0 | I28: =Wages!M37 -> 0 | J28: =SUM(D28:I28) -> 0
A29: 27 | B29: 50195 | C29: Wages - Overtime | E29: =Wages!J44 -> 4900.049 | F29: =Wages!K44 -> 4900.049 | G29: =Wages!L44 -> 32092.476 | H29: 1000 | I29: =Wages!M44 -> 9245.3533 | J29: =SUM(D29:I29) -> 52137.927
A30: 28 | B30: 50200 | C30: Wages WSF | E30: =Wages!J38+Wages!J45 -> 70000.7 | F30: =Wages!K38 -> 70000.7 | G30: =Wages!R33 -> 324166.42 | H30: 0 | I30: =Wages!R35 -> 264152.95 | J30: =SUM(D30:I30) -> 728320.77
A31: 29 | B31: 50250 | C31: Wages OOC OT | G31: 270000 | I31: 0 | K31: CFD 38%
A32: 30 | B32: 50275 | C32: Wages OOC Differencial | G32: 110000 | I32: 0
A33: 31 | B33: 50400 | C33: Supplies | E33: 25000 | F33: 30000 | G33: 12000 | H33: 0 | I33: 9900 | J33: =SUM(D33:I33) -> 76900
A34: 32 | B34: 50450 | C34: Repairs | E34: 40000 | F34: 20000 | G34: 2500 | I34: 1600 | J34: =SUM(D34:I34) -> 64100
A35: 33 | B35: 50500 | C35: Maintenance | E35: 5000 | F35: 12450 | G35: 5640 | H35: 0 | I35: 2700 | J35: =SUM(D35:I35) -> 25790
A36: 34 | B36: 50700 | C36: Engineering | E36: 2500 | F36: 5000 | G36: 0 | I36: 0 | J36: =SUM(D36:I36) -> 7500
A37: 35 | B37: 50800 | C37: Utilities - All | D37: ='Utilities-Auto Expense'!E12 -> 26070 | E37: ='Utilities-Auto Expense'!F12 -> 98280 | F37: ='Utilities-Auto Expense'!G12 -> 33505 | G37: ='Utilities-Auto Expense'!H12 -> 11805 | H37: ='Utilities-Auto Expense'!J12 -> 120 | I37: ='Utilities-Auto Expense'!I12 -> 11510 | J37: =SUM(D37:I37) -> 181290
A38: 36 | B38: 56000 | C38: Ambulance Expense | I38: 13000 | J38: =SUM(D38:I38) -> 13000
A39: 37 | B39: 56500 | C39: Non-Perm Staff - Per Diem Wages | E39: =Wages!D8 -> 5000 | F39: =Wages!E8 -> 5000 | G39: =Wages!E39*0.5 -> 6840 | I39: =Wages!E39*0.5 -> 6840 | J39: =SUM(D39:I39) -> 23680
A40: 38 | B40: 57000 | C40: Wages-Lassen Contract | G40: 0 | H40: 245250 | I40: 0 | J40: =SUM(D40:I40) -> 245250 | K40: 0.1825 | L40: incl taxes etc
...

Sheet Wages
B2: Wages | D2: Allocation Breakdown | H2: COLA | P2: Allocation Breakdown | V2: Longevity | Z2: Step Increase
B3: Position | C3: Current Salary | D3: Water | E3: Sanitation | F3: Fire | G3: Ambulance | H3: % Increase | I3: Annual $ Increase | J3: Adjusted Annual Cost | K3: Longevity Total | L3: Step Increase Total | M3: Total Proposed Annual Cost | N3: Comments | P3: Water | Q3: Sanitation | R3: Fire | S3: Ambulance | V3: Salary to Calc | W3: % Increase | X3: Duration, % of Year | Y3: $ Increase | Z3: Salary to Calc | AA3: % Increase | AB3: Duration, % of Year | AC3: $ Increase
A4: 1 | B4: General Manager | C4: 0 | D4: =C4*0.4 -> 0 | E4: =C4*0.4 -> 0 | F4: =C4*0.1 -> 0 | G4: =C4*0.1 -> 0 | H4: 0 | I4: =C4*H4 -> 0 | J4: =I4+C4 -> 0 | K4: =Y4 -> 0 | L4: =AC4 -> 0 | M4: =J4+K4+L4 -> 0 | N4: Salaried | P4: =M4*0.4 -> 0 | Q4: =M4*0.4 -> 0 | R4: =M4*0.1 -> 0 | S4: =M4*0.1 -> 0 | T4: =SUM(P4:S4) -> 0 | U4: General Manager | Y4: =V4*W4*X4 -> 0 | AC4: =Z4*AA4*AB4 -> 0
A5: 2 | B5: Office Manager | C5: 67849 | D5: =C5*0.3 -> 20354.7 | E5: =C5*0.3 -> 20354.7 | F5: =C5*0.3 -> 20354.7 | G5: =C5*0.1 -> 6784.9 | H5: 0 | I5: =C5*H5 -> 0 | J5: =I5+C5 -> 67849 | K5: =Y5 -> 0 | L5: =AC5 -> 0 | M5: =J5+K5+L5 -> 67849 | N5: Salaried | P5: =M5*0.3 -> 20354.7 | Q5: =M5*0.3 -> 20354.7 | R5: =M5*0.3 -> 20354.7 | S5: =M5*0.1 -> 6784.9 | T5: =SUM(P5:S5) -> 67849 | U5: Office Manager | Y5: =V5*W5*X5 -> 0 | AC5: =Z5*AA5*AB5 -> 0
A6: 3 | B6: Secretary | C6: 39728 | D6: =C6*0.3 -> 11918.4 | E6: =C6*0.3 -> 11918.4 | F6: =C6*0.1 -> 3972.8 | G6: =C6*0.3 -> 11918.4 | H6: 0 | I6: =C6*H6 -> 0 | J6: =I6+C6 -> 39728 | K6: =Y6 -> 0 | L6: =AC6 -> 0 | M6: =(J6+K6+L6) -> 39728 | N6: FT Hours | P6: =M6*0.3 -> 11918.4 | Q6: =M6*0.3 -> 11918.4 | R6: =M6*0.1 -> 3972.8 | S6: =M6*0.3 -> 11918.4 | T6: =SUM(P6:S6) -> 39728 | U6: Secretary | Y6: =V6*W6*X6 -> 0 | Z6: 0 | AA6: 0 | AB6: 0 | AC6: =Z6*AA6*AB6 -> 0
A7: 4
A8: 5 | B8: Seasonal | C8: 10000 | D8: =C8*0.5 -> 5000 | E8: =C8*0.5 -> 5000 | F8: 0 | I8: =C8*H8 -> 0 | J8: =I8+C8 -> 10000 | K8: =Y8 -> 0 | L8: =AC8 -> 0 | M8: =J8+K8+L8 -> 10000 | P8: =M8*0.5 -> 5000 | Q8: =M8*0.5 -> 5000 | R8: 0 | T8: =SUM(P8:S8) -> 10000 | Y8: =V8*W8*X8 -> 0 | AC8: =Z8*AA8*AB8 -> 0
A9: 6 | B9: Lead Supervisor | C9: 69388 | D9: =C9*0.5 -> 34694 | E9: =C9*0.5 -> 34694 | I9: =C9*H9 -> 0 | J9: =I9+C9 -> 69388 | K9: =Y9 -> 0 | L9: =AC9 -> 0 | M9: =J9+K9+L9 -> 69388 | N9: FT Hours | P9: =M9*0.5 -> 34694 | Q9: =M9*0.5 -> 34694 | T9: =SUM(P9:S9) -> 69388 | U9: Lead Supervisor | Y9: =V9*W9*X9 -> 0 | AA9: 0 | AB9: 0 | AC9: =Z9*AA9*AB9 -> 0
A10: 7 | B10: Field Supervisor | C10: 0 | D10: =C10*0.5 -> 0 | E10: =C10*0.5 -> 0 | I10: =C10*H10 -> 0 | J10: =I10+C10 -> 0 | K10: =Y10 -> 0 | L10: =AC10 -> 0 | M10: =J10+K10+L10 -> 0 | N10: FT Hours | P10: =M10*0.5 -> 0 | Q10: =M10*0.5 -> 0 | T10: =SUM(P10:S10) -> 0 | U10: Field Supervisor | Y10: =V10*W10*X10 -> 0 | AC10: =Z10*AA10*AB10 -> 0
A11: 8 | B11: Operator | C11: 34320 | D11: =C11*0.5 -> 17160 | E11: =C11*0.5 -> 17160 | I11: =C11*H11 -> 0 | J11: =I11+C11 -> 34320 | K11: =Y11 -> 0 | L11: =AC11 -> 1029.6 | M11: =J11+K11+L11 -> 35349.6 | N11: FT Hours | P11: =M11*0.5 -> 17674.8 | Q11: =M11*0.5 -> 17674.8 | T11: =SUM(P11:S11) -> 35349.6 | U11: Operator JB | Y11: =V11*W11*X11 -> 0 | Z11: 34320 | AA11: 0.05 | AB11: 0.6 | AC11: =Z11*AA11*AB11 -> 1029.6
A12: 9 | B12: Operator | C12: 34320 | D12: =C12*0.5 -> 17160 | E12: =C12*0.5 -> 17160 | I12: =C12*H12 -> 0 | J12: =I12+C12 -> 34320 | K12: =Y12 -> 0 | L12: =AC12 -> 943.8 | M12: =J12+K12+L12 -> 35263.8 | N12: PT Hours | P12: =M12*0.5 -> 17631.9 | Q12: =M12*0.5 -> 17631.9 | T12: =SUM(P12:S12) -> 35263.8 | U12: Operator CP | Y12: =V12*W12*X12 -> 0 | Z12: 34320 | AA12: 0.05 | AB12: 0.55 | AC12: =Z12*AA12*AB12 -> 943.8
A13: 10 | B13: Emergency Services Director | C13: 24000 | F13: =C13 -> 24000 | I13: =C13*H13 -> 0 | J13: =I13+C13 -> 24000 | K13: =Y13 -> 0 | L13: =AC13 -> 0 | M13: =J13+K13+L13 -> 24000 | N13: 960 Hours | R13: =M13 -> 24000 | T13: =SUM(P13:S13) -> 24000 | U13: Emergency Services Director | Y13: =V13*W13*X13 -> 0 | AC13: =Z13*AA13*AB13 -> 0
A14: 11 | B14: Fire Captain/EMT | C14: 105852 | F14: =C14 -> 105852 | I14: =C14*H14 -> 0 | J14: =I14+C14 -> 105852 | K14: =Y14 -> 0 | L14: =AC14 -> 0 | M14: =J14+K14+L14 -> 105852 | N14: 2912 hrs./yr | R14: =M14 -> 105852 | T14: =SUM(P14:S14) -> 105852 | U14: Fire Captain/EMT (CD) | W14: 0 | Y14: =V14*W14*X14 -> 0 | AC14: =Z14*AA14*AB14 -> 0
A15: 12 | B15: Firefighter/EMT | C15: 62408 | F15: =C15 -> 62408 | I15: =C15*H15 -> 0 | J15: =I15+C15 -> 62408 | K15: =Y15 -> 780.1 | L15: =AC15 -> 0 | M15: =J15+K15+L15 -> 63188.1 | N15: 2912 hrs./yr | R15: =M15 -> 63188.1 | T15: =SUM(P15:S15) -> 63188.1 | U15: Firefighter/EMT (MM) | V15: 62408 | W15: 0.05 | X15: 0.25 | Y15: =V15*W15*X15 -> 780.1 | AC15: =Z15*AA15*AB15 -> 0
A16: 13 | B16: Firefighter/EMT | C16: 56019 | F16: =C16 -> 56019 | I16: =C16*H16 -> 0 | J16: =I16+C16 -> 56019 | K16: 0 | L16: 0 | M16: =J16+K16+L16 -> 56019 | N16: 2912 hrs./yr | R16: =M16 -> 56019 | T16: =SUM(P16:S16) -> 56019 | U16: Firefighter/EMT (DC) | Y16: 0 | Z16: 52453 | AA16: 0.03 | AB16: 0.55 | AC16: =Z16*AA16*AB16 -> 865.4745
A17: 14 | B17: Firefighter/EMT | C17: 52633 | F17: =C17 -> 52633 | I17: 0 | J17: =I17+C17 -> 52633 | K17: 0 | L17: 0 | M17: =J17+K17+L17 -> 52633 | N17: 2912 hrs/yr | R17: =M17 -> 52633 | T17: =SUM(P17:S17) -> 52633 | U17: Firefighter/EMT KA step A
A18: 15 | B18: Firefighter/Paramedic | C18: 95532.32 | G18: =C18 -> 95532.32 | I18: =C18*H18 -> 0 | J18: =I18+C18 -> 95532.32 | K18: =Y18 -> 0 | L18: =AC18 -> 0 | M18: =J18+K18+L18 -> 95532.32 | N18: 2912 hrs./yr | S18: =M18 -> 95532.32 | T18: =SUM(P18:S18) -> 95532.32 | U18: Firefighter/Paramedic (MT) | Y18: =V18*W18*X18 -> 0 | AC18: =Z18*AA18*AB18 -> 0
A19: 16 | B19: Firefighter/Paramedic | C19: 73937.24 | G19: =C19 -> 73937.24 | I19: =C19*H19 -> 0 | J19: =I19+C19 -> 73937.24 | K19: =Y19 -> 0 | L19: =AC19 -> 0 | M19: =J19+K19+L19 -> 73937.24 | N19: 2912 hrs./yr | S19: =M19 -> 73937.24 | T19: =SUM(P19:S19) -> 73937.24 | U19: Firefighter/Paramedic (RW) | Y19: =V19*W19*X19 -> 0 | AC19: =Z19*AA19*AB19 -> 0
A20: 17 | B20: Firefighter/Paramedic | C20: 73938 | G20: =C20 -> 73938 | I20: =C20*H20 -> 0 | J20: =I20+C20 -> 73938 | K20: =Y20 -> 0 | L20: =AC20 -> 1109.07 | M20: =J20+K20+L20 -> 75047.07 | N20: 2912 hrs./yr | S20: =M20 -> 75047.07 | T20: =SUM(P20:S20) -> 75047.07 | U20: Firefighter/Paramedic (RJ) | Y20: =V20*W20*X20 -> 0 | Z20: 73938 | AA20: 0.03 | AB20: 0.5 | AC20: =Z20*AA20*AB20 -> 1109.07
A21: 18 | B21: Firefighter/Paramedic | C21: 0 | G21: =C21 -> 0 | I21: =C21*H21 -> 0 | J21: =I21+C21 -> 0 | K21: =Y21 -> 0 | L21: =AC21 -> 0 | M21: =J21+K21+L21 -> 0 | N21: 2912 hrs./yr | S21: =M21 -> 0 | T21: =SUM(P21:S21) -> 0 | U21: Firefighter/Paramedic | Y21: =V21*W21*X21 -> 0 | AC21: =Z21*AA21*AB21 -> 0
A22: 19
A23: 20 | B23: Total Existing Staff Costs | C23: =SUM(D23:G23) -> 799924.56 | D23: =SUM(D4:D21) -> 106287.1 | E23: =SUM(E4:E21) -> 106287.1 | F23: =SUM(F4:F21) -> 325239.5 | G23: =SUM(G4:G21) -> 262110.86 | I23: =SUM(I4:I21) -> 0 | K23: =SUM(K4:K21) -> 780.1 | L23: =SUM(L4:L21) -> 3082.47 | M23: =SUM(M4:M21) -> 803787.13 | N23: =SUM(P23:S23) -> 686210.13 | P23: =SUM(P9:P21) -> 70000.7 | Q23: =SUM(Q9:Q21) -> 70000.7 | R23: =SUM(R9:R19) -> 301692.1 | S23: =SUM(S9:S22) -> 244516.63 | T23: =SUM(T4:T22) -> 803787.13 | Y23: =SUM(Y4:Y22) -> 780.1 | AC23: =SUM(AC4:AC22) -> 3947.9445
A24: 21
A25: 22 | C25: $/hr | D25: ~ Hours/ Year | E25: Total
A26: 23 | B26: Per Diem Fire Medic | C26: 20 | D26: 48 | E26: =D26*C26 -> 960 | H26: Holiday Pay-Outs (Dec. each year) | K26: Holidays | L26: Hours | M26: Rate | N26: Total
A27: 24 | B27: Per Diem Fire Medic | C27: 20 | D27: 48 | E27: =D27*C27 -> 960 | H27: Fire Captain/EMT | K27: 11 | L27: 24 | M27: 31.51 | N27: =K27*L27*M27 -> 8318.64 | U27: Fire Captain/EMT (CD)
A28: 25 | B28: Per Diem Fire Medic | C28: 20 | D28: 48 | E28: =D28*C28 -> 960 | H28: Firefighter/EMT | K28: 11 | L28: 24 | M28: 19.8 | N28: =K28*L28*M28 -> 5227.2 | U28: Firefighter/EMT (MM)
A29: 26 | B29: Per Diem Fire Medic | C29: 20 | D29: 0 | E29: =D29*C29 -> 0 | H29: Firefighter/EMT x2 | K29: 22 | L29: 24 | M29: 16.91 | N29: =K29*L29*M29 -> 8928.48 | U29: Firefighter/EMT (DC)
A30: 27 | B30: Per Diem Fire Medic | C30: 20 | D30: 0 | E30: =D30*C30 -> 0 | H30: Firefighter/Paramedic | K30: 11 | L30: 24 | M30: 28.93 | N30: =K30*L30*M30 -> 7637.52 | U30: Firefighter/Paramedic (MT)
A31: 28 | B31: Per Diem FF | C31: 15 | D31: 0 | E31: =D31*C31 -> 0 | H31: Firefighter/Paramedic | K31: 11 | L31: 24 | M31: 22.39 | N31: =K31*L31*M31 -> 5910.96 | U31: Firefighter/Paramedic (RW)
A32: 29 | B32: Per Diem EMT | C32: 15 | D32: 48 | E32: =D32*C32 -> 720 | H32: Firefighter/Paramedic | K32: 11 | L32: 24 | M32: 23.06 | N32: =K32*L32*M32 -> 6087.84 | U32: Firefighter/Paramedic (RJ)
A33: 30 | B33: Per Diem EMT | C33: 15 | D33: 48 | E33: =D33*C33 -> 720 | H33: Firefighter/Paramedic | K33: 0 | L33: 24 | M33: 24.48 | N33: =K33*L33*M33 -> 0 | P33: Fire Wages: | R33: =SUM(R23+N27+N28+N29) -> 324166.42 | U33: Firefighter/Paramedic
A34: 31 | B34: Per Diem EMT | C34: 15 | D34: 48 | E34: =D34*C34 -> 720 | L34: Division Total | M34: =SUM(N27:N33) -> 42110.64
A35: 32 | B35: Per Diem EMT | C35: 15 | D35: 48 | E35: =D35*C35 -> 720 | Q35: Ambulance Wages: | R35: =S23+N30+N31+N32+N33 -> 264152.95
A36: 33 | B36: Per Diem EMT | C36: 15 | D36: 48 | E36: =D36*C36 -> 720 | J36: Water | K36: Sanitation | L36: Fire | M36: Ambulance | N36: Total
A37: 34 | B37: Per Diem EMT x 5 | C37: 15 | D37: 480 | E37: =D37*C37 -> 7200 | H37: Wages - Manager | J37: =P4 -> 0 | K37: =Q4 -> 0 | L37: =R4 -> 0 | M37: =S4 -> 0 | N37: =SUM(J37:M37) -> 0 | Q37: check | R37: =SUM(N37:N38) -> 728320.77
A38: 35 | H38: Wages WSF | J38: =SUM(P9:P12) -> 70000.7 | K38: =SUM(Q9:Q12) -> 70000.7 | L38: =R33 -> 324166.42 | M38: =R35 -> 264152.95 | N38: =SUM(J38:M38) -> 728320.77 | Q38: per diem | R38: =E39 -> 13680
A39: 36 | B39: Total Per Diem Costs | D39: =SUM(D26:D38) -> 864 | E39: =SUM(E26:E38) -> 13680 | H39: Wages - Office | J39: =SUM(P5:P6) -> 32273.1 | K39: =SUM(Q5:Q6) -> 32273.1 | L39: =SUM(R5:R6) -> 24327.5 | M39: =SUM(S5:S6) -> 18703.3 | N39: =SUM(J39:M39) -> 107577 | P39: office+On-call | R39: =SUM(N39:N40) -> 107577
A40: 37
A41: 38
...

Sheet Benefits
A1: FY 22/23 Benefits
C2: Medical | E2: Dental | I2: Vision | M2: PORAC Dues | Q2: MASA | R2: Firefighter Uniform allowance | S2: PERS 457 MATCH
C3: $/ Month | E3: Monthly | F3: Quarterly | G3: Monthly | H3: Quarterly | I3: Monthly | J3: Quarterly | K3: Monthly | L3: Quarterly | M3: Monthly | N3: Quarterly | O3: Monthly | P3: Quarterly
B4: Position | C4: 7/1/22-12/31/22 | D4: 1/1/23 - 6/30/23 | E4: 7/1/22-12/31/22 | G4: 1/1/23 - 6/30/23 | I4: 7/1/22-12/31/22 | K4: 1/1/23 - 6/30/23 | M4: 7/1/22-12/31/22 | O4: 1/1/23 - 6/30/23 | Q4: Annual
A5: 1 | B5: General Manager | C5: 0 | D5: =C5*1.05 -> 0 | E5: 0 | F5: 0 | G5: =(H5*2)/6 -> 0 | H5: =F5*1.05 -> 0 | I5: 0 | J5: 0 | K5: =(L5*2)/6 -> 0 | L5: =J5*1.05 -> 0 | M5: 0 | N5: 0 | O5: =(P5*2)/6 -> 0 | P5: =N5*1.05 -> 0 | Q5: 0
A6: 2 | B6: Office Manager | C6: 799 | D6: =C6*1.05 -> 838.95 | E6: =(F6*2)/6 -> 66.666667 | F6: 200 | G6: =(H6*2)/6 -> 70 | H6: =F6*1.05 -> 210 | I6: =(J6*4)/12 -> 16.733333 | J6: 50.2 | K6: =(L6*2)/6 -> 17.57 | L6: =J6*1.05 -> 52.71 | M6: =(N6*4) -> 540 | N6: 135 | O6: =(P6*2)/6 -> 0 | P6: 0 | Q6: 160 | S6: 1200
A7: 3 | B7: Secretary | C7: 1725 | D7: =C7*1.05 -> 1811.25 | E7: =(F7*2)/6 -> 233.33333 | F7: 700 | G7: 245 | H7: =F7*1.05 -> 735 | I7: =(J7*2)/6 -> 28.566667 | J7: 85.7 | K7: =(L7*2)/6 -> 29.995 | L7: =J7*1.05 -> 89.985 | M7: =(N7*4) -> 540 | N7: 135 | O7: 0 | P7: 0 | Q7: 160 | S7: 1200
A8: 4 | B8: PIO/ Fire Prevention Assistant | C8: 0 | D8: =C8*1.05 -> 0 | E8: =(F8*2)/6 -> 0 | F8: 0 | G8: =(H8*2)/6 -> 0 | H8: =F8*1.05 -> 0 | I8: =(J8*2)/6 -> 0 | J8: 0 | K8: =(L8*2)/6 -> 0 | L8: =J8*1.05 -> 0 | M8: =(N8*4) -> 0 | N8: 0 | O8: =(P8*2)/6 -> 0 | P8: =N8*1.05 -> 0 | S8: 0
A9: 5 | B9: Lead Supervisor | C9: 799 | D9: =C9*1.05 -> 838.95 | E9: =(F9*2)/6 -> 66.666667 | F9: 200 | G9: =(H9*2)/6 -> 70 | H9: =F9*1.05 -> 210 | I9: =(J9*2)/6 -> 16.733333 | J9: 50.2 | K9: =(L9*2)/6 -> 17.57 | L9: =J9*1.05 -> 52.71 | M9: =(N9*4) -> 540 | N9: 135 | O9: =(P9*2)/6 -> 0 | P9: 0 | Q9: 160 | S9: 1200
A10: 6 | B10: Operator | C10: 799 | D10: =C10*1.05 -> 838.95 | E10: =(F10*2)/6 -> 66.666667 | F10: 200 | G10: =(H10*2)/6 -> 70 | H10: =F10*1.05 -> 210 | I10: =(J10*2)/6 -> 16.733333 | J10: 50.2 | K10: =(L10*2)/6 -> 17.57 | L10: =J10*1.05 -> 52.71 | M10: =(N10*4) -> 540 | N10: 135 | O10: 0 | P10: 0 | Q10: 160 | S10: 1200
A11: 7 | B11: Operator | C11: 799 | D11: =C11*1.05 -> 838.95 | E11: =(F11*2)/6 -> 66.666667 | F11: 200 | G11: =(H11*2)/6 -> 70 | H11: =F11*1.05 -> 210 | I11: =(J11*2)/6 -> 16.733333 | J11: 50.2 | K11: =(L11*2)/6 -> 17.57 | L11: =J11*1.05 -> 52.71 | M11: =(N11*4) -> 540 | N11: 135 | O11: 0 | P11: 0 | Q11: 160 | S11: 1200
A12: 8 | B12: Emergency Services Director | M12: =(N12*4) -> 0 | Q12: 160 | R12: 400 | S12: 0
A13: 9 | B13: Fire Captain/EMT | C13: 2219 | D13: =C13*1.05 -> 2329.95 | E13: =(F13*2)/6 -> 233.33333 | F13: 700 | G13: =(H13*2)/6 -> 245 | H13: =F13*1.05 -> 735 | I13: =(J13*2)/6 -> 28.566667 | J13: 85.7 | K13: =(L13*2)/6 -> 29.995 | L13: =J13*1.05 -> 89.985 | M13: =(N13*4) -> 540 | N13: 135 | Q13: 160 | R13: 800 | S13: 200
A14: 10 | B14: Firefighter/EMT | C14: 2219 | D14: =C14*1.05 -> 2329.95 | E14: =(F14*2)/6 -> 233.33333 | F14: 700 | G14: =(H14*2)/6 -> 245 | H14: =F14*1.05 -> 735 | I14: =(J14*2)/6 -> 28.566667 | J14: 85.7 | K14: =(L14*2)/6 -> 29.995 | L14: =J14*1.05 -> 89.985 | M14: =(N14*4) -> 540 | N14: 135 | Q14: 160 | R14: 800 | S14: 200
A15: 11 | B15: Firefighter/EMT | C15: 1725 | D15: =C15*1.05 -> 1811.25 | E15: =(F15*2)/6 -> 66.666667 | F15: 200 | G15: =(H15*2)/6 -> 70 | H15: =F15*1.05 -> 210 | I15: =(J15*2)/6 -> 28.566667 | J15: 85.7 | K15: =(L15*2)/6 -> 29.995 | L15: =J15*1.05 -> 89.985 | M15: =(N15*4) -> 540 | N15: 135 | Q15: 160 | R15: 800 | S15: 200
A16: 12 | B16: Firefighter/EMT | C16: 2219 | D16: =C16*1.05 -> 2329.95 | E16: =(F16*2)/6 -> 233.33333 | F16: 700 | G16: =(H16*2)/6 -> 245 | H16: =F16*1.05 -> 735 | I16: =(J16*2)/6 -> 28.566667 | J16: 85.7 | K16: =(L16*2)/6 -> 29.995 | L16: =J16*1.05 -> 89.985 | M16: =(N16*4) -> 540 | N16: 135 | Q16: 160 | R16: 800 | S16: 200
A17: 13 | B17: Firefighter/Paramedic | C17: 2219 | D17: =C17*1.05 -> 2329.95 | E17: =(F17*2)/6 -> 233.33333 | F17: 700 | G17: =(H17*2)/6 -> 245 | H17: =F17*1.05 -> 735 | I17: =(J17*2)/6 -> 28.566667 | J17: 85.7 | K17: =(L17*2)/6 -> 29.995 | L17: =J17*1.05 -> 89.985 | M17: =(N17*4) -> 540 | N17: 135 | Q17: 160 | R17: 800 | S17: 200
A18: 14 | B18: Firefighter/Paramedic | C18: 2223 | D18: =C18*1.05 -> 2334.15 | E18: =(F18*2)/6 -> 233.33333 | F18: 700 | G18: =(H18*2)/6 -> 245 | H18: =F18*1.05 -> 735 | I18: =(J18*2)/6 -> 28.566667 | J18: 85.7 | K18: =(L18*2)/6 -> 29.995 | L18: =J18*1.05 -> 89.985 | M18: =(N18*4) -> 540 | N18: 135 | Q18: 160 | R18: 800 | S18: 200
A19: 15 | B19: Firefighter/Paramedic | C19: 2219 | D19: =C19*1.05 -> 2329.95 | E19: =(F19*2)/6 -> 233.33333 | F19: 700 | G19: =(H19*2)/6 -> 245 | H19: =F19*1.05 -> 735 | I19: =(J19*2)/6 -> 28.566667 | J19: 85.7 | K19: =(L19*2)/6 -> 29.995 | L19: =J19*1.05 -> 89.985 | M19: =(N19*4) -> 540 | N19: 135 | Q19: 160 | R19: 800 | S19: 200
A20: 16 | B20: Firefighter/Paramedic | C20: 0 | D20: =C20*1.05 -> 0 | E20: =(F20*2)/6 -> 0 | F20: 0 | G20: =(H20*2)/6 -> 0 | H20: =F20*1.05 -> 0 | I20: =(J20*2)/6 -> 0 | J20: 0 | K20: =(L20*2)/6 -> 0 | L20: =J20*1.05 -> 0 | M20: =(N20*4) -> 0 | N20: 0 | Q20: 0 | R20: 0 | S20: 0
A21: 17 | B21: Retiree 1 | C21: 0 | D21: =C21*1.05 -> 0 | M21: =(N21*4) -> 0 | N21: 0
A22: 18 | B22: Retiree 2 | C22: 381.94 | D22: =C22*1.05 -> 401.037 | M22: =(N22*4) -> 540 | N22: 135
A23: 19 | B23: Retiree 3 | C23: 1899 | D23: =C23*1.05 -> 1993.95 | J23: 0 | M23: =(N23*4) -> 540 | N23: 135
A24: 20 | B24: Retiree 4 | C24: 1725 | D24: =C24*1.05 -> 1811.25 | M24: =(N24*4) -> 540 | N24: 135
A25: 21 | B25: Retiree 5 | C25: 799 | D25: =C25*1.05 -> 838.95 | M25: =(N25*4) -> 540 | N25: 135
A26: 22 | B26: Retiree 6 | C26: 1308 | D26: =C26*1.05 -> 1373.4 | M26: =(N26*4) -> 540 | N26: 135
A27: 23 | B27: Board Member 1 | M27: =(N27*4) -> 0 | Q27: 0
A28: 24 | B28: Board Member 2 | Q28: 0
A29: 25 | B29: Board Member 3 | C29: 0 | Q29: 0
A30: 26 | B30: Board Member 4 | Q30: 0
A31: 27 | B31: Board Member 5 | Q31: 0
A32: 28
A33: 29 | B33: Total: | C33: =SUM(C5:C20) -> 19964 | D33: =SUM(D5:D20) -> 20962.2 | E33: =SUM(E5:E30) -> 1966.6667 | G33: =SUM(G5:G30) -> 2065 | I33: =SUM(I5:I30) -> 295.46667 | K33: =SUM(K5:K30) -> 310.24 | M33: =SUM(M5:M30) -> 9180 | O33: =SUM(O5:O30) -> 0 | Q33: =SUM(Q5:Q31) -> 2080
A34: 30 | B34: Retiree Total/Qtrly Payments: | C34: =(C21+C22+C23+C24+C25+C26) -> 6112.94 | D34: =(D21+D22+D23+D24+D25+D26) -> 6418.587 | F34: =SUM(F5:F30)*2 -> 11800 | H34: =SUM(H5:H30)*2 -> 12390 | J34: =SUM(J5:J30)*2 -> 1772.8 | L34: =SUM(L5:L30)*2 -> 1861.44 | N34: =SUM(N5:N30)*2 -> 4590 | P34: =SUM(P5:P30)*2 -> 0
A35: 31 | B35: 6 Month Total: | C35: =C33*6 -> 119784 | D35: =D33*6 -> 125773.2
A36: 32 | B36: FY Retiree Total: | C36: =(C34*6)+(D34*6) -> 75189.162
A37: 33 | B37: FY Employee Total: | C37: =C35+D35 -> 245557.2 | F37: =F34+H34 -> 24190 | J37: =J34+L34 -> 3634.24 | M37: =N34+P34 -> 4590 | O37: =O34+#REF! -> #REF! | Q37: =Q33+R33 -> 2080 | R37: =SUM(R5:R32) -> 6000 | S37: =SUM(S5:S31) -> 7400
A38: 34 | B38: FY Employee Benefits Total: | C38: =C36+C37+F37+J37+M37+Q37+R37+S37 -> 368640.6
A40: Benefits Annual Allocations
B42: Medical | C42: Water | D42: Sanitation | E42: Fire | F42: Ambulance | G42: check
...

Sheet PERS
A1: FY 22/23 PERS Expense
B3: PERS Retirement
B4: Position | C4: Annual Salary | D4: Employer % Contribution | E4: Employer $ Contribution | F4: Employee % CPUD | G4: Employee $ | H4: UAL | I4: Total CPUD Contribution
A5: 1 | B5: General Manager | C5: =Wages!M4 -> 0 | D5: 0 | E5: =C5*D5 -> 0 | F5: 0 | G5: =C5*F5/12 -> 0 | I5: =H5+E5 -> 0
A6: 2 | B6: Office Manager | C6: =Wages!M5 -> 67849 | D6: 0.122 | E6: =C6*D6 -> 8277.578 | H6: 56480 | I6: =H6+E6 -> 64757.578
A7: 3 | B7: Secretary | C7: =Wages!M6 -> 39728 | D7: 0.07732 | E7: =C7*D7 -> 3071.769 | H7: 130 | I7: =H7+E7 -> 3201.769
A8: 4 | I8: =H8+E8 -> 0
A9: 5 | B9: PIO/ Fire Prevention Assistant | C9: =Wages!M8 -> 10000 | D9: 0 | E9: =C9*D9 -> 0 | I9: =H9+E9 -> 0
A10: 6 | B10: Lead Supervisor | C10: =Wages!M9 -> 69388 | D10: 0.0759 | E10: =C10*D10 -> 5266.5492 | F10: 0 | G10: =C10*F10 -> 0 | H10: 130 | I10: =H10+E10 -> 5396.5492
A11: 7 | B11: Field Supervisor | C11: =Wages!M10 -> 0 | D11: 0 | E11: =C11*D11 -> 0 | H11: 0 | I11: =H11+E11 -> 0
A12: 8 | B12: Operator | C12: =Wages!M11 -> 35349.6 | D12: 0.0759 | E12: =C12*D12 -> 2683.0346 | H12: 130 | I12: =H12+E12 -> 2813.0346
A13: 9 | B13: Operator | C13: =Wages!M12 -> 35263.8 | D13: 0.0759 | E13: =C13*D13 -> 2676.5224 | H13: 130 | I13: =H13+E13 -> 2806.5224
A14: 10 | B14: Emergency Services Director | C14: =Wages!M13 -> 24000 | D14: 0 | E14: =C14*D14 -> 0 | I14: =H14+E14 -> 0
A15: 11 | B15: Fire Captain/EMT | C15: =Wages!M14 -> 105852 | D15: 0.2371 | E15: =C15*D15 -> 25097.509 | H15: 59519 | I15: =H15+E15 -> 84616.509 | J15: includes Golden Handshake
A16: 12 | B16: Firefighter/EMT | C16: =Wages!M15 -> 63188.1 | D16: 0.1313 | E16: =C16*D16 -> 8296.5975 | H16: 489 | I16: =H16+E16 -> 8785.5975
A17: 13 | B17: Firefighter/EMT | C17: =Wages!M16 -> 56019 | D17: 0.1313 | E17: =C17*D17 -> 7355.2947 | H17: 489 | I17: =H17+E17 -> 7844.2947
A18: 14 | B18: Firefighter/EMT | C18: =Wages!M17 -> 52633 | D18: 0.1313 | E18: =C18*D18 -> 6910.7129 | H18: 489 | I18: =H18+E18 -> 7399.7129
A19: 15 | B19: Firefighter/Paramedic | C19: =Wages!M18 -> 95532.32 | D19: 0.2371 | E19: =C19*D19 -> 22650.713 | H19: 59519 | I19: =H19+E19 -> 82169.713 | J19: includes Golden Handshake
A20: 16 | B20: Firefighter/Paramedic | C20: =Wages!M19 -> 73937.24 | D20: 0.1313 | E20: =C20*D20 -> 9707.9596 | H20: 489 | I20: =H20+E20 -> 10196.96
A21: 17 | B21: Firefighter/Paramedic | C21: =Wages!M20 -> 75047.07 | D21: 0.1313 | E21: =C21*D21 -> 9853.6803 | H21: 489 | I21: =H21+E21 -> 10342.68
A22: 18 | B22: Firefighter/Paramedic | C22: =Wages!M21 -> 0 | D22: 0 | E22: =C22*D22 -> 0 | H22: 0 | I22: =H22+E22 -> 0
A23: 19 | I23: =H23+E23 -> 0
A24: 20 | B24: Totals: | C24: =SUM(C5:C23) -> 803787.13 | E24: =SUM(E5:E23) -> 111847.92 | G24: =SUM(G5:G23) -> 0
A25: 21
A26: 22 | B26: Unfunded Liability | G26: Total Existing Staff Costs: | I26: =SUM(I5:I23) -> 290330.92
A27: 23 | B27: Approximate Cost/Month: | C27: 12000 | G27: Total Unfunded Liability: | I27: =SUM(H5:H23) -> 178483
A28: 24
A29: 25 | F29: PERS Expense Total | I29: =SUM(I25:I28) -> 468813.92
A30: 26
A31: 27 | G31: Contract Fire: | I31: 0
A32: 28 | B32: Annual Allocations
A33: 29 | B33: PERS Expense | C33: Water | D33: Sanitation | E33: Fire | F33: Ambulance | G33: check
A34: 30 | B34: General Manager | C34: =I5*0.4 -> 0 | D34: =I5*0.4 -> 0 | E34: =I5*0.1 -> 0 | F34: =I5*0.1 -> 0 | G34: =SUM(C34:F34) -> 0
A35: 31 | B35: Office Manager | C35: =I6*0.3 -> 19427.273 | D35: =I6*0.3 -> 19427.273 | E35: =I6*0.3 -> 19427.273 | F35: =I6*0.1 -> 6475.7578 | G35: =SUM(C35:F35) -> 64757.578
A36: 32 | B36: Secretary | C36: =I7*0.3 -> 960.53069 | D36: =I7*0.3 -> 960.53069 | E36: =I7*0.1 -> 320.1769 | F36: =I7*0.3 -> 960.53069 | G36: =SUM(C36:F36) -> 3201.769
A37: 33
A38: 34 | B38: PIO/ Fire Prevention Assistant | C38: =I9*0.15 -> 0 | D38: =I9*0.15 -> 0 | E38: =I9*0.5 -> 0 | F38: =I9*0.2 -> 0 | G38: =SUM(C38:F38) -> 0
A39: 35 | B39: Lead Supervisor | C39: =I10*0.5 -> 2698.2746 | D39: =I10*0.5 -> 2698.2746 | G39: =SUM(C39:E39) -> 5396.5492
A40: 36 | B40: Operator | C40: =I13*0.5 -> 1403.2612 | D40: =I13*0.5 -> 1403.2612 | G40: =SUM(C40:E40) -> 2806.5224
A41: 37 | B41: Operator | C41: =I12*0.5 -> 1406.5173 | D41: =I12*0.5 -> 1406.5173 | G41: =SUM(C41:E41) -> 2813.0346
...

Sheet Workers Comp
A1: FY 22/23 Workers Compensation - State Fund Interim
B3: Workers Compensation
B4: Position | C4: Annual Salary | D4: State Fund Interim | E4: Employer Qtrly Payment | F4: Employer Annual Payment
A5: 1 | B5: General Manager | C5: =Wages!M4 -> 0 | D5: 0.00032 | E5: =C5*D5 -> 0 | F5: =E5*4 -> 0
A6: 2 | B6: Office Manager | C6: =Wages!M5 -> 67849 | D6: 0.00032 | E6: =C6*D6 -> 21.71168 | F6: =E6*4 -> 86.84672
A7: 3 | B7: Secretary | C7: =Wages!M6 -> 39728 | D7: 0.00032 | E7: =C7*D7 -> 12.71296 | F7: =E7*4 -> 50.85184
A8: 4
A9: 5 | B9: PIO/ Fire Prevention Assistant | C9: =Wages!M8 -> 10000 | D9: 0 | E9: =C9*D9 -> 0 | F9: =E9*4 -> 0
A10: 6 | B10: Lead Supervisor | C10: =Wages!M9 -> 69388 | D10: 0.0412 | E10: =C10*D10 -> 2858.7856 | F10: =E10*4 -> 11435.142
A11: 7 | B11: Field Supervisor | C11: =Wages!M10 -> 0 | D11: 0.0412 | E11: =C11*D11 -> 0 | F11: =E11*4 -> 0
A12: 8 | B12: Operator | C12: =Wages!M11 -> 35349.6 | D12: 0.0412 | E12: =C12*D12 -> 1456.4035 | F12: =E12*4 -> 5825.6141
A13: 9 | B13: Operator | C13: =Wages!M12 -> 35263.8 | D13: 0.0412 | E13: =C13*D13 -> 1452.8686 | F13: =E13*4 -> 5811.4742
A14: 10 | B14: Emergency Services Director | C14: =Wages!M13 -> 24000 | D14: 0.0684 | E14: =C14*D14 -> 1641.6 | F14: =E14*4 -> 6566.4
A15: 11 | B15: Fire Captain/EMT | C15: =Wages!M14 -> 105852 | D15: 0.0684 | E15: =C15*D15 -> 7240.2768 | F15: =E15*4 -> 28961.107
A16: 12 | B16: Firefighter/EMT | C16: =Wages!M15 -> 63188.1 | D16: 0.0684 | E16: =C16*D16 -> 4322.066 | F16: =E16*4 -> 17288.264
A17: 13 | B17: Firefighter/EMT | C17: =Wages!M16 -> 56019 | D17: 0.0684 | E17: =C17*D17 -> 3831.6996 | F17: =E17*4 -> 15326.798
A18: 14 | B18: Firefighter/EMT | C18: =Wages!M17 -> 52633 | D18: 0.0684 | E18: =C18*D18 -> 3600.0972 | F18: =E18*4 -> 14400.389
A19: 15 | B19: Firefighter/Paramedic | C19: =Wages!M18 -> 95532.32 | D19: 0.0684 | E19: =C19*D19 -> 6534.4107 | F19: =E19*4 -> 26137.643
A20: 16 | B20: Firefighter/Paramedic | C20: =Wages!M19 -> 73937.24 | D20: 0.0684 | E20: =C20*D20 -> 5057.3072 | F20: =E20*4 -> 20229.229
... A22: 18 | B22: Firefighter/Paramedic | C22: =Wages!M21 -> 0 | D22: 0.0684 | E22: =C22*D22 -> 0 | F22: =E22*4 -> 0
A23: 19 | B23: Volunteers (4 @ $5000 ea) | C23: 20000 | D23: 0.0684 | E23: =C23*D23 -> 1368 | F23: =E23*4 -> 5472
A24: 20 | B24: Board Members (5 @ $1000 ea) | C24: 5000 | D24: 0.00032 | E24: =C24*D24 -> 1.6 | F24: =E24*4 -> 6.4
A25: 21 | B25: Lassen Contract Employees (65) | C25: Seasonal - Usually May-Nov (fire season, reimbursed by Lassen contract)
A26: 22 | B26: 10 Perdiem | C26: =Wages!E39 -> 13680 | D26: 0.0684 | E26: =C26*D26 -> 935.712 | F26: =E26*4 -> 3742.848
A27: 23 | B27: Totals: | C27: =SUM(C5:C24) -> 828787.13 | D27: Quarterly Total | E27: =SUM(E5:E24) -> 44532.759
A28: 24 | E28: Annual Total | F28: =SUM(F5:F26) -> 181873.89
A29: 25
B32: Annual Allocations
A33: 26 | C33: Water | D33: Sanitation | E33: Fire | F33: Ambulance | G33: check
A34: 27 | B34: General Manager | C34: =F5*0.4 -> 0 | D34: =F5*0.4 -> 0 | E34: =F5*0.1 -> 0 | F34: =F5*0.1 -> 0 | G34: =SUM(C34:F34) -> 0
A35: 28 | B35: Office Manager | C35: =F6*0.31 -> 26.922483 | D35: =F6*0.31 -> 26.922483 | E35: =F6*0.31 -> 26.922483 | F35: =F6*0.075 -> 6.513504 | G35: =SUM(C35:F35) -> 87.280954
A36: 29 | B36: Secretary | C36: =F7*0.33 -> 16.781107 | D36: =F7*0.33 -> 16.781107 | E36: =F7*0.1 -> 5.085184 | F36: =F7*0.24 -> 12.204442 | G36: =SUM(C36:F36) -> 50.85184
A37: 30
A38: 31 | B38: PIO/ Fire Prevention Assistant | C38: =F9*0.15 -> 0 | D38: =F9*0.15 -> 0 | E38: =F9*0.7 -> 0 | G38: =SUM(C38:E38) -> 0
A39: 32 | B39: Lead Supervisor | C39: =F10*0.5 -> 5717.5712 | D39: =F10*0.5 -> 5717.5712 | G39: =SUM(C39:E39) -> 11435.142
A40: 33 | B40: Field Supervisor | C40: =F11*0.5 -> 0 | D40: =F11*0.5 -> 0 | G40: =SUM(C40:E40) -> 0
A41: 34 | B41: Operator | C41: =F12*0.5 -> 2912.807 | D41: =F12*0.5 -> 2912.807 | G41: =SUM(C41:E41) -> 5825.6141
A42: 35 | B42: Operator | C42: =F13*0.5 -> 2905.7371 | D42: =F13*0.5 -> 2905.7371 | G42: =SUM(C42:E42) -> 5811.4742
A43: 36 | B43: Emergency Services Director | E43: =F14 -> 6566.4 | G43: =SUM(C43:E43) -> 6566.4
A44: 37 | B44: Fire Captain/EMT | E44: =F15 -> 28961.107 | G44: =SUM(C44:E44) -> 28961.107
...

Sheet Payroll Taxes
A1: FY 22/23 Payroll Taxes
B3: Payroll Taxes
B4: Position | C4: Annual Salary | D4: Social Security, % | E4: Social Security Total $ | F4: Medicare, % | G4: Medicare Total $ | H4: Payroll Taxes Total
A5: 1 | B5: General Manager | C5: =Wages!M4 -> 0 | D5: 0.062 | E5: =C5*D5 -> 0 | F5: 0.0145 | G5: =C5*F5 -> 0 | H5: =E5+G5 -> 0
A6: 2 | B6: Office Manager | C6: =Wages!M5 -> 67849 | D6: 0.062 | E6: =C6*D6 -> 4206.638 | F6: 0.0145 | G6: =C6*F6 -> 983.8105 | H6: =E6+G6 -> 5190.4485
A7: 3 | B7: Secretary | C7: =Wages!M6 -> 39728 | D7: 0.062 | E7: =C7*D7 -> 2463.136 | F7: 0.0145 | G7: =C7*F7 -> 576.056 | H7: =E7+G7 -> 3039.192
A8: 4 | B8: Seasonal | C8: =Wages!M8 -> 10000 | D8: 0.062 | E8: =C8*D8 -> 620 | F8: 0.0145 | G8: =C8*F8 -> 145 | H8: =E8+G8 -> 765
A9: 5 | B9: PIO/ Fire Prevention Assistant | C9: =Wages!M8 -> 10000 | D9: 0.062 | E9: =C9*D9 -> 620 | F9: 0.0145 | G9: =C9*F9 -> 145 | H9: =E9+G9 -> 765
A10: 6 | B10: Lead Supervisor | C10: =Wages!M9 -> 69388 | D10: 0.062 | E10: =C10*D10 -> 4302.056 | F10: 0.0145 | G10: =C10*F10 -> 1006.126 | H10: =E10+G10 -> 5308.182
A11: 7 | B11: Field Supervisor | C11: =Wages!M10 -> 0 | D11: 0.062 | E11: =C11*D11 -> 0 | F11: 0.0145 | G11: =C11*F11 -> 0 | H11: =E11+G11 -> 0
A12: 8 | B12: Operator | C12: =Wages!M11 -> 35349.6 | D12: 0.062 | E12: =C12*D12 -> 2191.6752 | F12: 0.0145 | G12: =C12*F12 -> 512.5692 | H12: =E12+G12 -> 2704.2444
A13: 9 | B13: Operator | C13: =Wages!M12 -> 35263.8 | D13: 0.062 | E13: =C13*D13 -> 2186.3556 | F13: 0.0145 | G13: =C13*F13 -> 511.3251 | H13: =E13+G13 -> 2697.6807
A14: 10 | B14: Emergency Services Director | C14: =Wages!M13 -> 24000 | D14: 0.062 | E14: =C14*D14 -> 1488 | F14: 0.0145 | G14: =C14*F14 -> 348 | H14: =E14+G14 -> 1836
A15: 11 | B15: Fire Captain/EMT | C15: =Wages!M14 -> 105852 | D15: 0.062 | E15: =C15*D15 -> 6562.824 | F15: 0.0145 | G15: =C15*F15 -> 1534.854 | H15: =E15+G15 -> 8097.678
A16: 12 | B16: Firefighter/EMT | C16: =Wages!M15 -> 63188.1 | D16: 0.062 | E16: =C16*D16 -> 3917.6622 | F16: 0.0145 | G16: =C16*F16 -> 916.22745 | H16: =E16+G16 -> 4833.8897
A17: 13 | B17: Firefighter/EMT | C17: =Wages!M16 -> 56019 | D17: 0.062 | E17: =C17*D17 -> 3473.178 | F17: 0.0145 | G17: =C17*F17 -> 812.2755 | H17: =E17+G17 -> 4285.4535
A18: 14 | B18: Firefighter/EMT | C18: =Wages!M17 -> 52633 | D18: 0.062 | E18: =C18*D18 -> 3263.246 | F18: 0.0145 | G18: =C18*F18 -> 763.1785 | H18: =E18+G18 -> 4026.4245
A19: 15 | B19: Firefighter/Paramedic | C19: =Wages!M18 -> 95532.32 | D19: 0.062 | E19: =C19*D19 -> 5923.0038 | F19: 0.0145 | G19: =C19*F19 -> 1385.2186 | H19: =E19+G19 -> 7308.2225
A20: 16 | B20: Firefighter/Paramedic | C20: =Wages!M19 -> 73937.24 | D20: 0.062 | E20: =C20*D20 -> 4584.1089 | F20: 0.0145 | G20: =C20*F20 -> 1072.09 | H20: =E20+G20 -> 5656.1989
... A22: 18 | B22: Firefighter/Paramedic | C22: =Wages!M21 -> 0 | D22: 0.062 | E22: =C22*D22 -> 0 | F22: 0.0145 | G22: =C22*F22 -> 0 | H22: =E22+G22 -> 0
A23: 19 | B23: 10 perdiem | C23: =Wages!E39 -> 13680 | D23: 0.062 | E23: =C23*D23 -> 848.16 | F23: 0.0145 | G23: =C23*F23 -> 198.36 | H23: =E23+G23 -> 1046.52
A24: 20 | B24: Totals: | C24: =SUM(C5:C23) -> 827467.13 | D24: Total: | E24: =SUM(E5:E23) -> 51302.962 | F24: Total: | G24: =SUM(G5:G23) -> 11998.273
A25: 21 | F25: Annual Total: | H25: =SUM(H5:H24) -> 63301.235
A26: 22
A29: 23 | B29: Annual Allocations
A30: 24 | C30: Water | D30: Sanitation | E30: Fire | F30: Ambulance | G30: check
A31: 25 | B31: General Manager | C31: =H5*0.4 -> 0 | D31: =H5*0.4 -> 0 | E31: =H5*0.1 -> 0 | F31: =H5*0.1 -> 0 | G31: =SUM(C31:F31) -> 0
A32: 26 | B32: Office Manager | C32: =H6*0.3 -> 1557.1345 | D32: =H6*0.3 -> 1557.1345 | E32: =H6*0.3 -> 1557.1345 | F32: =H6*0.1 -> 519.04485 | G32: =SUM(C32:F32) -> 5190.4485
A33: 27 | B33: Secretary | C33: =H7*0.3 -> 911.7576 | D33: =H7*0.3 -> 911.7576 | E33: =H7*0.1 -> 303.9192 | F33: =H7*0.3 -> 911.7576 | G33: =SUM(C33:F33) -> 3039.192
A34: 28 | B34: Seasonal | C34: =H8*0.5 -> 382.5 | D34: =H8*0.5 -> 382.5 | G34: =SUM(C34:F34) -> 765
A35: 29 | B35: PIO/ Fire Prevention Assistant | C35: =H9*0.15 -> 114.75 | D35: =H9*0.15 -> 114.75 | E35: =H9*0.5 -> 382.5 | F35: =H9*0.2 -> 153 | G35: =SUM(C35:F35) -> 765
A36: 30 | B36: Lead Supervisor | C36: =H10*0.5 -> 2654.091 | D36: =H10*0.5 -> 2654.091 | G36: =SUM(C36:E36) -> 5308.182
A37: 31 | B37: Field Supervisor | C37: =H11*0.5 -> 0 | D37: =H11*0.5 -> 0 | G37: =SUM(C37:E37) -> 0
A38: 32 | B38: Operator | C38: =H12*0.5 -> 1352.1222 | D38: =H12*0.5 -> 1352.1222 | G38: =SUM(C38:E38) -> 2704.2444
A39: 33 | B39: Operator | C39: =H13*0.5 -> 1348.8404 | D39: =H13*0.5 -> 1348.8404 | G39: =SUM(C39:E39) -> 2697.6807
A40: 34 | B40: Emergency Services Director | E40: =H14 -> 1836 | G40: =SUM(C40:E40) -> 1836
A41: 35 | B41: Fire Captain/EMT | E41: =H15 -> 8097.678 | G41: =SUM(C41:E41) -> 8097.678
A42: 36 | B42: Firefighter/EMT | E42: =H16 -> 4833.8897 | G42: =SUM(C42:E42) -> 4833.8897
A43: 37 | B43: Firefighter/EMT | E43: =H17 -> 4285.4535 | G43: =SUM(C43:E43) -> 4285.4535
A44: 38 | B44: Firefighter/EMT | E44: =H18 -> 4026.4245 | G44: =SUM(C44:E44) -> 4026.4245
...

Sheet Unemployment Taxes
A1: Unemployment Taxes
B3: Unemployment Taxes
B4: Position | C4: Annual Salary | D4: Unemployment, % | E4: Unemployment, Maximum | F4: Unemployment Total
A5: 1 | B5: General Manager | C5: =Wages!M4 -> 0 | D5: 0.062 | E5: 7000 | F5: =D5*E5 -> 434
A6: 2 | B6: Office Manager | C6: =Wages!M5 -> 67849 | D6: 0.062 | E6: 7000 | F6: =D6*E6 -> 434
A7: 3 | B7: Secretary | C7: =Wages!M6 -> 39728 | D7: 0.062 | E7: 7000 | F7: =D7*E7 -> 434
A8: 4 | B8: Seasonsal | C8: =Wages!M8 -> 10000 | D8: 0.062 | E8: 7000 | F8: =D8*E8 -> 434
A9: 5 | B9: PIO/ Fire Prevention Assistant | C9: =Wages!M8 -> 10000 | D9: 0.062 | E9: 0 | F9: =D9*E9 -> 0
A10: 6 | B10: Lead Supervisor | C10: =Wages!M9 -> 69388 | D10: 0.062 | E10: 7000 | F10: =D10*E10 -> 434 | G10: `
A11: 7 | B11: Field Supervisor | C11: =Wages!M10 -> 0 | D11: 0.062 | E11: 0 | F11: =D11*E11 -> 0
A12: 8 | B12: Operator | C12: =Wages!M11 -> 35349.6 | D12: 0.062 | E12: 7000 | F12: =D12*E12 -> 434
A13: 9 | B13: Operator | C13: =Wages!M12 -> 35263.8 | D13: 0.062 | E13: 7000 | F13: =D13*E13 -> 434
A14: 10 | B14: Emergency Services Director | C14: =Wages!M13 -> 24000 | D14: 0.062 | E14: 7000 | F14: =D14*E14 -> 434
A15: 11 | B15: Fire Captain/EMT | C15: =Wages!M14 -> 105852 | D15: 0.062 | E15: 7000 | F15: =D15*E15 -> 434
A16: 12 | B16: Firefighter/EMT | C16: =Wages!M15 -> 63188.1 | D16: 0.062 | E16: 7000 | F16: =D16*E16 -> 434
A17: 13 | B17: Firefighter/EMT | C17: =Wages!M16 -> 56019 | D17: 0.062 | E17: 7000 | F17: =D17*E17 -> 434
A18: 14 | B18: Firefighter/EMT | C18: =Wages!M17 -> 52633 | D18: 0.062 | E18: 7000 | F18: =D18*E18 -> 434
A19: 15 | B19: Firefighter/Paramedic | C19: =Wages!M18 -> 95532.32 | D19: 0.062 | E19: 7000 | F19: =D19*E19 -> 434
A20: 16 | B20: Firefighter/Paramedic | C20: =Wages!M19 -> 73937.24 | D20: 0.062 | E20: 7000 | F20: =D20*E20 -> 434
A21: 17 | B21: Firefighter/Paramedic | C21: =Wages!M20 -> 75047.07 | D21: 0.062 | E21: 7000 | F21: =D21*E21 -> 434
A22: 18 | B22: Firefighter/Paramedic | C22: =Wages!M21 -> 0 | D22: 0.062 | E22: 0 | F22: =D22*E22 -> 0
A23: 19
A24: 20 | B24: Totals: | C24: =SUM(C5:C23) -> 813787.13 | D24: Total: | E24: =SUM(E5:E23) -> 105000 | F24: =SUM(F5:F23) -> 6510
A25: 21
A26: 22
A28: 22
A29: 23 | B29: Annual Allocations
A30: 24 | C30: Water | D30: Sanitation | E30: Fire | F30: Ambulance | G30: check | H30: Contract
A31: 25 | B31: General Manager | C31: =F5*0.4 -> 173.6 | D31: =F5*0.4 -> 173.6 | E31: =F5*0.1 -> 43.4 | F31: =F5*0.1 -> 43.4 | G31: =SUM(C31:F31) -> 434
A32: 26 | B32: Office Manager | C32: =F6*0.3 -> 130.2 | D32: =F6*0.3 -> 130.2 | E32: =F6*0.3 -> 130.2 | F32: =F6*0.1 -> 43.4 | G32: =SUM(C32:F32) -> 434
A33: 27 | B33: Secretary | C33: =F7*0.3 -> 130.2 | D33: =F7*0.3 -> 130.2 | E33: =F7*0.1 -> 43.4 | F33: =F7*0.3 -> 130.2 | G33: =SUM(C33:F33) -> 434
A34: 28 | B34: 10 lassen and a seasonal | C34: =F8*0.5 -> 217 | D34: =F8*0.5 -> 217 | G34: 0 | H34: 4340
A35: 29 | B35: PIO/ Fire Prevention Assistant | C35: =F9*0.15 -> 0 | D35: =F9*0.15 -> 0 | E35: =F9*0.5 -> 0 | F35: =F9*0.2 -> 0 | G35: =SUM(C35:F35) -> 0
A36: 30 | B36: Lead Supervisor | C36: =F10*0.5 -> 217 | D36: =F10*0.5 -> 217 | G36: =SUM(C36:E36) -> 434
A37: 31 | B37: Field Supervisor | C37: =F11*0.5 -> 0 | D37: =F11*0.5 -> 0 | G37: =SUM(C37:E37) -> 0
A38: 32 | B38: Operator | C38: =F12*0.5 -> 217 | D38: =F12*0.5 -> 217 | G38: =SUM(C38:E38) -> 434
A39: 33 | B39: Operator | C39: =F13*0.5 -> 217 | D39: =F13*0.5 -> 217 | G39: =SUM(C39:E39) -> 434
A40: 34 | B40: Emergency Services Director | E40: =F14 -> 434 | G40: =SUM(C40:E40) -> 434
A41: 35 | B41: Fire Captain/EMT | E41: =F15 -> 434 | G41: =SUM(C41:E41) -> 434
A42: 36 | B42: Firefighter/EMT | E42: =F16 -> 434 | G42: =SUM(C42:E42) -> 434
...

Sheet Utilities-Auto Expense
A1: FY 22/23 Utilities
A4: 1 | C4: Provider | D4: FY Total | E4: Street Lights | F4: Water | G4: Sanitation | H4: Fire | I4: Ambulance | J4: Contract Fire
A5: 2 | B5: Electricity | C5: PG&E | D5: =SUM(E5:J5) -> 160370 | E5: 26070 | F5: 92000 | G5: 29300 | H5: 6500 | I5: 6500
A6: 3 | B6: Propane | C6: Hunt Propane | D6: =SUM(E6:J6) -> 8040 | F6: 3690 | G6: 1350 | H6: 1500 | I6: 1500
A7: 4 | B7: Phone & Internet | C7: Frontier | D7: =SUM(E7:J7) -> 8600 | F7: 2150 | G7: 2150 | H7: 2200 | I7: 2100
A8: 5 | B8: Garbage | C8: Waste Management | D8: =SUM(E8:J8) -> 1200 | F8: 170 | G8: 525 | H8: 350 | I8: 155
A9: 6 | B9: Cell Phone | C9: T-Mobile | D9: =SUM(E9:J9) -> 1570 | F9: 270 | G9: 180 | H9: 500 | I9: 500 | J9: 120
A10: 7
A11: 8 | B11: Satellite | C11: Dish | D11: =SUM(E11:J11) -> 1510 | H11: 755 | I11: 755
A12: 9 | E12: =SUM(E5:E11) -> 26070 | F12: =SUM(F5:F11) -> 98280 | G12: =SUM(G5:G11) -> 33505 | H12: =SUM(H5:H11) -> 11805 | I12: =SUM(I5:I11) -> 11510 | J12: =SUM(J5:J11) -> 120
A13: 10
A14: 11 | C14: Total Utilities: | D14: =SUM(D5:D11) -> 181290 | H14: check: | J14: =SUM(E12:J12) -> 181290
A15: 12
A16: 13
A17: 14 | B17: FY 22/23 Auto Expense
A18: 15
A19: 16 | D19: FY Total | F19: Water | G19: Sanitation | H19: Fire | I19: Ambulance | J19: Contract Fire
A20: 17 | B20: Fuel | C20: Ed Staub & Son Voyager Fleet Systems | D20: =SUM(F20:J20) -> 18550 | F20: 4525 | G20: 4525 | H20: 6800 | I20: 2700 | J20: 0
A21: 18 | B21: Service | C21: All minus fuel | D21: =SUM(F21:J21) -> 17200 | F21: 2600 | G21: 2600 | H21: 8350 | I21: 3650
A22: 19 | B22: Tire Service | C22: Plumas Tire | D22: =SUM(F22:J22) -> 0 | F22: 0 | G22: 0 | H22: 0 | I22: 0
A23: 20 | B23: Miscellaneous | C23: varies | D23: =SUM(F23:J23) -> 0 | F23: 0 | G23: 0 | H23: 0 | I23: 0 | J23: 0
A24: 21 | B24: Rentals | C24: EAN Services | D24: =SUM(F24:J24) -> 3500 | H24: 500 | J24: 3000
A25: 22
A26: 23 | F26: =SUM(F20:F25) -> 7125 | G26: =SUM(G20:G25) -> 7125 | H26: =SUM(H20:H25) -> 15650 | I26: =SUM(I20:I25) -> 6350 | J26: =SUM(J20:J25) -> 3000
A27: 24
A28: 25 | C28: Total Auto Expense: | D28: =SUM(D20:D26) -> 39250

Sheet Training & Travel
A1: FY 22/23 Training & Travel
D2: FY Allocations
D3: Water | E3: Sanitation | F3: Fire | G3: Contract Fire | H3: Ambulance
A4: 1 | B4: General Manager | C4: 0 | D4: =C4*0.45 -> 0 | E4: =C4*0.45 -> 0 | F4: =C4*0.05 -> 0 | G4: =C4*0.05 -> 0
A5: 2 | B5: Office Manager | C5: 400 | D5: =C5*0.3 -> 120 | E5: =C5*0.3 -> 120 | F5: =C5*0.3 -> 120 | G5: 0 | H5: 40
A6: 3 | B6: Secretary | C6: 400 | D6: =C6*0.3 -> 120 | E6: =C6*0.3 -> 120 | F6: =C6*0.1 -> 40 | G6: 0 | H6: 120
A7: 4
A8: 5 | B8: PIO/ Fire Prevention Assistant | C8: 0 | D8: =C8*0.15 -> 0 | E8: =C8*0.15 -> 0 | F8: =C8*0.7 -> 0
A9: 6 | B9: Lead Supervisor | C9: 1000 | D9: =C9*0.5 -> 500 | E9: =C9*0.5 -> 500
A10: 7 | B10: Field Supervisor | C10: 0 | D10: =C10*0.5 -> 0 | E10: =C10*0.5 -> 0
A11: 8 | B11: Operator | C11: 1000 | D11: =C11*0.5 -> 500 | E11: =C11*0.5 -> 500
A12: 9 | B12: Operator | C12: 1000 | D12: =C12*0.5 -> 500 | E12: =C12*0.5 -> 500
A13: 10 | B13: Emergency Services Director | C13: 400 | F13: 400
A14: 11 | B14: Fire Captian/EMT | C14: 1100 | F14: 1100
A15: 12 | B15: Firefighter/EMT | C15: 1100 | F15: 1100
A16: 13 | B16: Firefighter/EMT | C16: 1100 | F16: 1100
A17: 14 | B17: Firefighter/EMT | C17: 1100 | F17: 1100
A18: 15 | B18: Firefighter/Paramedic | C18: 1100 | H18: 1100
A19: 16 | B19: Firefighter/Paramedic | C19: 1100 | H19: 1100
A20: 17 | B20: Firefighter/Paramedic | C20: 1100 | H20: 1100
A21: 18 | B21: Firefighter/Paramedic | C21: 0 | H21: 0
A22: 19 | B22: Contract Firefighters | C22: 7500 | G22: 7500
A23: 20 | D23: =SUM(D4:D22) -> 1740 | E23: =SUM(E4:E22) -> 1740 | F23: =SUM(F4:F22) -> 4960 | G23: =SUM(G4:G22) -> 7500 | H23: =SUM(H4:H22) -> 3460
A24: 21
A25: 22 | B25: Total: | C25: =SUM(C4:C22) -> 19400 | E25: check: | F25: =SUM(D23:H23) -> 19400

Sheet Professional Services
A1: Professional Services
E3: FY 5 year average Allocation
B4: Service | C4: Provider | D4: FY Estimate | E4: Water | F4: Sanitation | G4: Ambulance | H4: Fire | I4: Contract Fire | K4: Check
A5: 1 | B5: Accounting | C5: Mary Cheek, CPA | D5: =SUM(E5:I5) -> 18950 | E5: 4900 | F5: 4900 | G5: 2150 | H5: 5500 | I5: 1500 | K5: =SUM(E5:I5) -> 18950
A6: 2 | B6: Laboratory Testing | C6: Fruit Growers Laboratory (FGL) | D6: =SUM(E6:I6) -> 31500 | E6: 4300 | F6: 27200 | K6: =SUM(E6:I6) -> 31500
A7: 3 | B7: Annual Audit | C7: RTDennis Assoc. | D7: =SUM(E7:I7) -> 18000 | E7: 3600 | F7: 3600 | G7: 3600 | H7: 3600 | I7: 3600 | K7: =SUM(E7:I7) -> 18000
A8: 4 | B8: Weed & Pest Control | C8: Mario's Weed & Pest | D8: =SUM(E8:I8) -> 1460 | E8: 365 | F8: 730 | H8: 365 | K8: =SUM(E8:I8) -> 1460
A9: 5 | B9: Computer Maintenance/Repair | C9: Mindbank and Ray Morgan | D9: =SUM(E9:I9) -> 1940 | E9: 525 | F9: 525 | G9: 640 | H9: 250 | I9: 0 | K9: =SUM(E9:I9) -> 1940
A10: 6 | B10: CPUD Billing Support | C10: Harris/MIP | D10: 5100 | E10: 2000 | F10: 2000 | G10: 400 | H10: 400 | I10: 400 | K10: =SUM(E10:I10) -> 5200
A11: 7 | B11: Ambulance Billing Support | C11: Wittman Enterprises, LLC | D11: =SUM(E11:I11) -> 9700 | G11: 9700 | K11: =SUM(E11:I11) -> 9700
A12: 8 | B12: Rodent Control | C12: Lakeside Construction | D12: =SUM(E12:I12) -> 0 | E12: 0 | F12: 0 | G12: 0 | H12: 0 | J12: none since 2017 | K12: =SUM(E12:I12) -> 0
A13: 9 | B13: Website Support | C13: Streamline/Name Cheap | D13: =SUM(E13:I13) -> 2400 | E13: 600 | F13: 600 | G13: 600 | H13: 600 | K13: =SUM(E13:I13) -> 2400
A14: 10 | B14: Membership / Subscriptions | C14: CSDA | D14: =SUM(E14:I14) -> 7400 | E14: 1850 | F14: 1850 | G14: 1850 | H14: 1850 | I14: 0 | K14: =SUM(E14:I14) -> 7400
A15: 11 | B15: Snow Removal | C15: Plumas County Public Works | D15: =SUM(E15:I15) -> 650 | E15: 650 | K15: =SUM(E15:I15) -> 650
A16: 12 | B16: Studies | C16: SUSP Cal Rural Water | D16: =SUM(E16:I16) -> 24000 | E16: 12000 | F16: 12000 | K16: =SUM(E16:I16) -> 24000
B17: Studies | C17: Well 1 | D17: =SUM(E17:I17) -> 10000 | E17: 10000
A18: 13 | B18: Inspections, & Testing | C18: Failsafe, Zoll, Alpine | D18: =SUM(E18:I18) -> 4280 | E18: 230 | F18: 230 | G18: 2100 | H18: 1720 | K18: =SUM(E18:I18) -> 4280
A19: 14 | B19: Training and Scheduling | C19: Vector&Target Solutions/Crew Sense | D19: =SUM(E19:I19) -> 1900 | E19: 175 | F19: 175 | G19: 1200 | H19: 350
A20: 15 | B20: Call Log System | C20: ESO Solutions Inc. | D20: =SUM(E20:I20) -> 1420 | G20: 710 | H20: 710
B21: Alert System and Dispatching | C21: I am responding & Firenet Lassen | D21: =SUM(E21:I21) -> 7160 | G21: 3580 | H21: 3580
A22: 16 | B22: Collections & Background | C22: Butte County & Department of Justice | D22: =SUM(E22:I22) -> 550 | E22: 100 | F22: 100 | G22: 100 | H22: 250 | I22: 0 | K22: =SUM(E22:I22) -> 550
A23: 17 | B23: Miscellanous | C23: Varies | D23: =SUM(E23:I23) -> 6000 | E23: 1500 | F23: 1500 | G23: 2000 | H23: 500 | I23: 500 | K23: =SUM(E23:I23) -> 6000
A24: 18 | B24: Management Company | C24: Sectaris/Adam Cox | D24: =SUM(E24:I24) -> 82000 | E24: 32800 | F24: 32800 | G24: 8200 | H24: 8200
B25: OPEB Analysis | C25: Bartel | D25: =SUM(E25:I25) -> 25000 | E25: 7500 | F25: 7500 | G25: 5000 | H25: 5000
B26: EMS Boundary Annex | C26: NST Engineering | D26: =SUM(E26:I26) -> 15000 | G26: 15000
B27: EMS/FIRE Parcel Tax | C27: DTA | D27: =SUM(E27:I27) -> 45000 | G27: 22500 | H27: 22500
A28: 19 | C28: Total: | D28: =SUM(D5:D27) -> 319410 | E28: =SUM(E5:E26) -> 83095 | F28: =SUM(F5:F26) -> 95710 | G28: =SUM(G5:G27) -> 79330 | H28: =SUM(H5:H27) -> 55375 | I28: =SUM(I5:I26) -> 6000 | K28: =SUM(E28:I28) -> 319510

Sheet Total Employee Compensation
B2: Employee Total Compensation
F3: FY 22/23
C4: Wages | D4: Medical | E4: Dental | F4: Vision | G4: PORAC Dues | H4: Air Ambulance | I4: FF Uniform Allowance | J4: PERS Retirement | K4: Special Licenses/ Certificates | L4: Training & Travel | M4: Total Compensation
A5: 1 | B5: General Manager | C5: =Wages!M4 -> 0 | D5: =Benefits!G43 -> 0 | E5: =Benefits!G76 -> 0 | F5: =Benefits!G106 -> 0 | G5: =Benefits!G135 -> 0 | H5: =Benefits!G167 -> 0 | I5: =Benefits!G199 -> 0 | J5: =PERS!I5 -> 0 | L5: ='Training & Travel'!C4 -> 0 | M5: =SUM(C5:L5) -> 0
A6: 2 | B6: Office Manager | C6: =Wages!M5 -> 67849 | D6: =Benefits!G44 -> 9827.7 | E6: =Benefits!G77 -> 820 | F6: =Benefits!G107 -> 205.82 | G6: =Benefits!G136 -> 540 | H6: =Benefits!G168 -> 160 | I6: =Benefits!G200 -> 0 | J6: =PERS!I6 -> 64757.578 | L6: ='Training & Travel'!C5 -> 400 | M6: =SUM(C6:L6) -> 144560.1
A7: 3 | B7: Secretary | C7: =Wages!M6 -> 39728 | D7: =Benefits!G45 -> 21217.5 | E7: =Benefits!G78 -> 2870 | F7: =Benefits!G108 -> 351.37 | G7: =Benefits!G137 -> 540 | H7: =Benefits!G169 -> 160 | I7: =Benefits!G201 -> 0 | J7: =PERS!I7 -> 3201.769 | L7: ='Training & Travel'!C6 -> 400 | M7: =SUM(C7:L7) -> 68468.639
A8: 4
A9: 5 | B9: PIO/ Fire Prevention Assistant | C9: =Wages!M8 -> 10000 | D9: =Benefits!G47 -> 0 | E9: =Benefits!G80 -> 0 | F9: =Benefits!G110 -> 0 | G9: =Benefits!G139 -> 0 | H9: =Benefits!G171 -> 0 | I9: =Benefits!G203 -> 0 | J9: =PERS!I9 -> 0 | L9: ='Training & Travel'!C8 -> 0 | M9: =SUM(C9:L9) -> 10000
A10: 6 | B10: Lead Supervisor | C10: =Wages!M9 -> 69388 | D10: =Benefits!G48 -> 9827.7 | E10: =Benefits!G81 -> 820 | F10: =Benefits!G111 -> 205.82 | G10: =Benefits!G140 -> 540 | H10: =Benefits!G172 -> 160 | I10: =Benefits!G204 -> 0 | J10: =PERS!I10 -> 5396.5492 | L10: ='Training & Travel'!C9 -> 1000 | M10: =SUM(C10:L10) -> 87338.069
A11: 7 | B11: Field Supervisor | C11: =Wages!M10 -> 0 | D11: =Benefits!G49 -> 9827.7 | E11: =Benefits!G82 -> 820 | F11: =Benefits!G112 -> 205.82 | G11: =Benefits!G141 -> 540 | H11: =Benefits!G173 -> 160 | I11: =Benefits!G205 -> 0 | J11: =PERS!I11 -> 0 | K11: 2080 | L11: ='Training & Travel'!C10 -> 0 | M11: =SUM(C11:L11) -> 13633.52
A12: 8 | B12: Operator | C12: =Wages!M11 -> 35349.6 | D12: =Benefits!G50 -> 9827.7 | E12: =Benefits!G83 -> 820 | F12: =Benefits!G113 -> 205.82 | G12: =Benefits!G142 -> 540 | H12: =Benefits!G174 -> 160 | I12: =Benefits!G206 -> 0 | J12: =PERS!I12 -> 2813.0346 | K12: 2080 | L12: ='Training & Travel'!C11 -> 1000 | M12: =SUM(C12:L12) -> 52796.155
A13: 9 | B13: Seasonal Operator | C13: =Wages!M12 -> 35263.8 | D13: =Benefits!G51 -> 0 | E13: =Benefits!G84 -> 0 | F13: =Benefits!G114 -> 0 | G13: =Benefits!G143 -> 0 | H13: =Benefits!G175 -> 160 | I13: =Benefits!I143 -> 0 | J13: =PERS!I13 -> 2806.5224 | L13: ='Training & Travel'!C12 -> 1000 | M13: =SUM(C13:L13) -> 39230.322
A14: 10 | B14: Emergency Services Director | C14: =Wages!M13 -> 24000 | D14: 0 | E14: 0 | F14: 0 | G14: 0 | H14: =Benefits!G175 -> 160 | I14: =Benefits!G207 -> 400 | J14: =PERS!I14 -> 0 | L14: ='Training & Travel'!C13 -> 400 | M14: =SUM(C14:L14) -> 24960
A15: 11 | B15: Fire Captain/EMT | C15: =Wages!M14 -> 105852 | D15: =Benefits!G52 -> 27293.7 | E15: =Benefits!G85 -> 2870 | F15: =Benefits!G115 -> 351.37 | G15: =Benefits!G144 -> 540 | H15: =Benefits!G176 -> 160 | I15: =Benefits!G208 -> 800 | J15: =PERS!I15 -> 84616.509 | L15: ='Training & Travel'!C14 -> 1100 | M15: =SUM(C15:L15) -> 223583.58
A16: 12 | B16: Firefighter/EMT | C16: =Wages!M15 -> 63188.1 | D16: =Benefits!G53 -> 27293.7 | E16: =Benefits!G86 -> 2870 | F16: =Benefits!G116 -> 351.37 | G16: =Benefits!G145 -> 540 | H16: =Benefits!G177 -> 160 | I16: =Benefits!G209 -> 800 | J16: =PERS!I16 -> 8785.5975 | L16: ='Training & Travel'!C15 -> 1100 | M16: =SUM(C16:L16) -> 105088.77
A17: 13 | B17: Firefighter/EMT | C17: =Wages!M16 -> 56019 | D17: =Benefits!G54 -> 21217.5 | E17: =Benefits!G87 -> 820 | F17: =Benefits!G117 -> 351.37 | G17: =Benefits!G146 -> 540 | H17: =Benefits!G178 -> 160 | I17: =Benefits!G210 -> 800 | J17: =PERS!I17 -> 7844.2947 | L17: ='Training & Travel'!C16 -> 1100 | M17: =SUM(C17:L17) -> 88852.165
A18: 14 | B18: Firefighter/Paramedic | C18: =Wages!M18 -> 95532.32 | D18: =Benefits!G56 -> 27293.7 | E18: =Benefits!G89 -> 2870 | F18: =Benefits!G119 -> 351.37 | G18: =Benefits!G148 -> 540 | H18: =Benefits!F180 -> 160 | I18: =Benefits!G212 -> 800 | J18: =PERS!I19 -> 82169.713 | L18: ='Training & Travel'!C18 -> 1100 | M18: =SUM(C18:L18) -> 210817.1
A19: 15 | B19: Firefighter/Paramedic | C19: =Wages!M19 -> 73937.24 | D19: =Benefits!G57 -> 27342.9 | E19: =Benefits!G90 -> 2870 | F19: =Benefits!G120 -> 351.37 | G19: =Benefits!G149 -> 540 | H19: =Benefits!G181 -> 160 | I19: =Benefits!G213 -> 800 | J19: =PERS!I20 -> 10196.96 | L19: ='Training & Travel'!C19 -> 1100 | M19: =SUM(C19:L19) -> 117298.47
A20: 16 | B20: Firefighter/Paramedic | C20: =Wages!M20 -> 75047.07 | D20: =Benefits!G58 -> 27293.7 | E20: =Benefits!G91 -> 2870 | F20: =Benefits!G121 -> 351.37 | G20: =Benefits!G150 -> 540 | H20: =Benefits!G182 -> 160 | I20: =Benefits!G214 -> 800 | J20: =PERS!I21 -> 10342.68 | L20: ='Training & Travel'!C20 -> 1100 | M20: =SUM(C20:L20) -> 118504.82
A21: 17 | B21: Firefighter/Paramedic | C21: =Wages!M21 -> 0 | D21: =Benefits!G59 -> 0 | E21: =Benefits!G92 -> 0 | F21: =Benefits!G122 -> 0 | G21: =Benefits!G151 -> 0 | H21: =Benefits!G183 -> 0 | I21: =Benefits!G215 -> 0 | J21: =PERS!I22 -> 0 | L21: ='Training & Travel'!C21 -> 0 | M21: =SUM(C21:L21) -> 0
C23: =SUM(C5:C22) -> 751154.13 | D23: =SUM(D5:D22) -> 218263.5 | E23: =SUM(E5:E22) -> 21320 | F23: =SUM(F5:F22) -> 3282.87 | G23: =SUM(G5:G22) -> 5940 | H23: =SUM(H5:H22) -> 2080 | I23: =SUM(I5:I22) -> 5200 | J23: =SUM(J5:J22) -> 282931.21 | L23: =SUM(L5:L22) -> 10800 | M23: =SUM(M5:M21) -> 1305131.7
